BEGIN:VCALENDAR
VERSION:2.0
PRODID:-//Eigene Wege - Zentrum für ganzheitliches Leben - ECPv6.2.2//NONSGML v1.0//EN
CALSCALE:GREGORIAN
METHOD:PUBLISH
X-ORIGINAL-URL:https://zentrum-eigenewege.de
X-WR-CALDESC:Veranstaltungen für Eigene Wege - Zentrum für ganzheitliches Leben
REFRESH-INTERVAL;VALUE=DURATION:PT1H
X-Robots-Tag:noindex
X-PUBLISHED-TTL:PT1H
BEGIN:VTIMEZONE
TZID:Europe/Berlin
BEGIN:DAYLIGHT
TZOFFSETFROM:+0100
TZOFFSETTO:+0200
TZNAME:CEST
DTSTART:20240331T010000
END:DAYLIGHT
BEGIN:STANDARD
TZOFFSETFROM:+0200
TZOFFSETTO:+0100
TZNAME:CET
DTSTART:20241027T010000
END:STANDARD
END:VTIMEZONE
BEGIN:VEVENT
DTSTART;TZID=Europe/Berlin:20241003T183000
DTEND;TZID=Europe/Berlin:20241003T210000
DTSTAMP:20260421T181705
CREATED:20240223T145305Z
LAST-MODIFIED:20240816T091636Z
UID:3027-1727980200-1727989200@zentrum-eigenewege.de
SUMMARY:Finde dich im Kreis der Schwestern
DESCRIPTION:Wir ehren in unserem Frauenkreis die weibliche Energie und uns selbst. Wir stärken die Verbindung zu uns selbst  und der Natur die uns umgibt und geben uns den natürlichen Zyklen hin. Wir lassen ein geschütztes Feld entstehen\, in dem wir uns austauschen können\, uns unserer Weiblichkeit voll bewusst werden können und uns gegenseitig Wertschätzung angedeihen lassen. \nWir nutzen die 8 weiblichen Archetypen um die inneren Anteile die jede von uns in sich trägt zu erkunden\, wachsen zu lassen oder zur Ruhe zu bringen. Wir erfahren die Jungfrau\, die Geliebte\, die Mutter\, die Kriegerin\, die Herrscherin\, die Priesterin\, die dunkle Göttin und die Unschuld. \nZyklus: dieses ist der Vierte von Acht aufeinander aufbauenden Abenden \nIntervall: wöchentlich jeden Donnerstag \nAnkommen: 18:30 Uhr Beginn: 19:00 Uhr Bitte sei pünktlich! \nDauer: zwei Stunden \nKosten für das Paket des ganzen Zyklus: 100-250 Euro \nKosten für einzelne Abende 15-35 Euro \n(Preis je nach Selbsteinschätzung. Wenn du mehr zahlst\, fließt das in einen Stipendienfond ein\, aus dem wir Teilstipendien an finanziell weniger gut Dastehende vergeben können) \nmehr zu dem Frauenkreis findest du hier \nMöchtest du dabei sein? Kontaktiere uns hier! \n  \n 
URL:https://zentrum-eigenewege.de/event/finde-dich-im-kreis-der-schwestern-12/
LOCATION:Eigene Wege\, schnattern\, gestratz\, 88167\, Deutschland
CATEGORIES:Frauenkreis
ATTACH;FMTTYPE=image/jpeg:https://zentrum-eigenewege.de/wp-content/uploads/2023/01/goddess-1500599_960_720-e1708706125531.jpg
END:VEVENT
BEGIN:VEVENT
DTSTART;TZID=Europe/Berlin:20241010T183000
DTEND;TZID=Europe/Berlin:20241010T210000
DTSTAMP:20260421T181705
CREATED:20240223T145525Z
LAST-MODIFIED:20240816T091531Z
UID:3029-1728585000-1728594000@zentrum-eigenewege.de
SUMMARY:Finde dich im Kreis der Schwestern
DESCRIPTION:Wir ehren in unserem Frauenkreis die weibliche Energie und uns selbst. Wir stärken die Verbindung zu uns selbst  und der Natur die uns umgibt und geben uns den natürlichen Zyklen hin. Wir lassen ein geschütztes Feld entstehen\, in dem wir uns austauschen können\, uns unserer Weiblichkeit voll bewusst werden können und uns gegenseitig Wertschätzung angedeihen lassen. \nWir nutzen die 8 weiblichen Archetypen um die inneren Anteile die jede von uns in sich trägt zu erkunden\, wachsen zu lassen oder zur Ruhe zu bringen. Wir erfahren die Jungfrau\, die Geliebte\, die Mutter\, die Kriegerin\, die Herrscherin\, die Priesterin\, die dunkle Göttin und die Unschuld. \nZyklus: dieses ist der Fünfte von Acht aufeinander aufbauenden Abenden \nIntervall: wöchentlich jeden Donnerstag \nAnkommen: 18:30 Uhr Beginn: 19:00 Uhr Bitte sei pünktlich! \nDauer: zwei Stunden \nKosten für das Paket des ganzen Zyklus: 100-250 Euro \nKosten für einzelne Abende 15-35 Euro \n(Preis je nach Selbsteinschätzung. Wenn du mehr zahlst\, fließt das in einen Stipendienfond ein\, aus dem wir Teilstipendien an finanziell weniger gut Dastehende vergeben können) \nmehr zu dem Frauenkreis findest du hier \nMöchtest du dabei sein? Kontaktiere uns hier! \n 
URL:https://zentrum-eigenewege.de/event/finde-dich-im-kreis-der-schwestern-13/
LOCATION:Eigene Wege\, schnattern\, gestratz\, 88167\, Deutschland
CATEGORIES:Frauenkreis
ATTACH;FMTTYPE=image/jpeg:https://zentrum-eigenewege.de/wp-content/uploads/2023/01/goddess-1500599_960_720-e1708706125531.jpg
END:VEVENT
BEGIN:VEVENT
DTSTART;TZID=Europe/Berlin:20241017T183000
DTEND;TZID=Europe/Berlin:20241017T210000
DTSTAMP:20260421T181705
CREATED:20240223T145829Z
LAST-MODIFIED:20240816T091722Z
UID:3032-1729189800-1729198800@zentrum-eigenewege.de
SUMMARY:Finde dich im Kreis der Schwestern
DESCRIPTION:Wir ehren in unserem Frauenkreis die weibliche Energie und uns selbst. Wir stärken die Verbindung zu uns selbst  und der Natur die uns umgibt und geben uns den natürlichen Zyklen hin. Wir lassen ein geschütztes Feld entstehen\, in dem wir uns austauschen können\, uns unserer Weiblichkeit voll bewusst werden können und uns gegenseitig Wertschätzung angedeihen lassen. \nWir nutzen die 8 weiblichen Archetypen um die inneren Anteile die jede von uns in sich trägt zu erkunden\, wachsen zu lassen oder zur Ruhe zu bringen. Wir erfahren die Jungfrau\, die Geliebte\, die Mutter\, die Kriegerin\, die Herrscherin\, die Priesterin\, die dunkle Göttin und die Unschuld. \nZyklus: dieses ist der Sechste von Acht aufeinander aufbauenden Abenden \nIntervall: wöchentlich jeden Donnerstag \nAnkommen: 18:30 Uhr Beginn: 19:00 Uhr Bitte sei pünktlich! \nDauer: zwei Stunden \nKosten für das Paket des ganzen Zyklus: 100-250 Euro \nKosten für einzelne Abende 15-35 Euro \n(Preis je nach Selbsteinschätzung. Wenn du mehr zahlst\, fließt das in einen Stipendienfond ein\, aus dem wir Teilstipendien an finanziell weniger gut Dastehende vergeben können) \nmehr zu dem Frauenkreis findest du hier \nMöchtest du dabei sein? Kontaktiere uns hier! \n 
URL:https://zentrum-eigenewege.de/event/finde-dich-im-kreis-der-schwestern-14/
LOCATION:Eigene Wege\, schnattern\, gestratz\, 88167\, Deutschland
CATEGORIES:Frauenkreis
ATTACH;FMTTYPE=image/jpeg:https://zentrum-eigenewege.de/wp-content/uploads/2023/01/goddess-1500599_960_720-e1708706125531.jpg
END:VEVENT
BEGIN:VEVENT
DTSTART;TZID=Europe/Berlin:20241024T183000
DTEND;TZID=Europe/Berlin:20241024T210000
DTSTAMP:20260421T181705
CREATED:20240223T150041Z
LAST-MODIFIED:20240816T091754Z
UID:3034-1729794600-1729803600@zentrum-eigenewege.de
SUMMARY:Finde dich im Kreis der Schwestern
DESCRIPTION:Wir ehren in unserem Frauenkreis die weibliche Energie und uns selbst. Wir stärken die Verbindung zu uns selbst  und der Natur die uns umgibt und geben uns den natürlichen Zyklen hin. Wir lassen ein geschütztes Feld entstehen\, in dem wir uns austauschen können\, uns unserer Weiblichkeit voll bewusst werden können und uns gegenseitig Wertschätzung angedeihen lassen. \nWir nutzen die 8 weiblichen Archetypen um die inneren Anteile die jede von uns in sich trägt zu erkunden\, wachsen zu lassen oder zur Ruhe zu bringen. Wir erfahren die Jungfrau\, die Geliebte\, die Mutter\, die Kriegerin\, die Herrscherin\, die Priesterin\, die dunkle Göttin und die Unschuld. \nZyklus: dieses ist der Siebte von Acht aufeinander aufbauenden Abenden \nIntervall: wöchentlich jeden Donnerstag \nAnkommen: 18:30 Uhr Beginn: 19:00 Uhr Bitte sei pünktlich! \nDauer: zwei Stunden \nKosten für das Paket des ganzen Zyklus: 100-250 Euro \nKosten für einzelne Abende 15-35 Euro \n(Preis je nach Selbsteinschätzung. Wenn du mehr zahlst\, fließt das in einen Stipendienfond ein\, aus dem wir Teilstipendien an finanziell weniger gut Dastehende vergeben können) \nmehr zu dem Frauenkreis findest du hier \nMöchtest du dabei sein? Kontaktiere uns hier! \n 
URL:https://zentrum-eigenewege.de/event/finde-dich-im-kreis-der-schwestern-15/
CATEGORIES:Frauenkreis
ATTACH;FMTTYPE=image/jpeg:https://zentrum-eigenewege.de/wp-content/uploads/2023/01/goddess-1500599_960_720-e1708706125531.jpg
END:VEVENT
END:VCALENDAR