BEGIN:VCALENDAR
VERSION:2.0
PRODID:-//Eigene Wege - Zentrum für ganzheitliches Leben - ECPv6.2.2//NONSGML v1.0//EN
CALSCALE:GREGORIAN
METHOD:PUBLISH
X-ORIGINAL-URL:https://zentrum-eigenewege.de
X-WR-CALDESC:Veranstaltungen für Eigene Wege - Zentrum für ganzheitliches Leben
REFRESH-INTERVAL;VALUE=DURATION:PT1H
X-Robots-Tag:noindex
X-PUBLISHED-TTL:PT1H
BEGIN:VTIMEZONE
TZID:Europe/Berlin
BEGIN:DAYLIGHT
TZOFFSETFROM:+0100
TZOFFSETTO:+0200
TZNAME:CEST
DTSTART:20260329T010000
END:DAYLIGHT
BEGIN:STANDARD
TZOFFSETFROM:+0200
TZOFFSETTO:+0100
TZNAME:CET
DTSTART:20261025T010000
END:STANDARD
END:VTIMEZONE
BEGIN:VEVENT
DTSTART;TZID=Europe/Berlin:20260328T150000
DTEND;TZID=Europe/Berlin:20260328T200000
DTSTAMP:20260425T182855
CREATED:20250814T103025Z
LAST-MODIFIED:20250814T103025Z
UID:4696-1774710000-1774728000@zentrum-eigenewege.de
SUMMARY:Frühlingserwachen
DESCRIPTION:Um das Leben zu ehren\, laden wir dich ein\, gemeinsam mit uns zu feiern. \nWenn wir den Kreislauf der Natur\, den natürlichen Rhythmus des Wachsens und Vergehens\, Hell und Dunkel\, sowie die kosmischen Gesetze erfahren und begreifen\, lernen wir unser Leben zu verstehen und zu bejahen. Indem wir das Leben und die damit einhergehende Veränderung feiern\, feiern wir uns selbst und erleben uns als Teil des Ganzen – der Schöpfung. Mit Hilfe von Ritualen\, Übungen und Meditationen etc. werden wir uns den Aspekten des Frühlings in uns Selbst und unserer Umwelt bewusst und feiern diese. Wir laden alle ein\, nach Herzenslust\, ekstatisch oder still\, ganz natürlich und tatsächlich zu feiern. Mit Tanz und Musik\, Jede/r soviel wie er oder sie möchte. \nWir feiern an diesem Tag die Kräfte des Frühlings\, des lebendigen Lebens\, das Feuer der Kreativität und Fantasie. Zudem ist rund um die Frühlings Tag- und Nachtgleiche das Tageslicht und die Dunkelheit im Gleichgewicht. Der Tag eignet sich daher\, um unsere dunklen und lichtvollen sowie unsere männlichen und weiblichen Anteile ins Gleichgewicht zu bringen. \nBeginn ist um 15 Uhr \nProgramm bis 20 Uhr\, danach feiern bis Open End. \nEs besteht die Möglichkeit im eigenen Zelt zu übernachten. \nZieht euch bitte dem Wetter entsprechend an – wir werden die meiste Zeit im Freien verbringen. \nWer eine Kleinigkeit zur gemeinsamen Brotzeit beisteuern möchte\, sei hiermit herzlich dazu ermuntert! \nKosten: 50- 100 Euro (Preis je nach Selbsteinschätzung. Wenn du mehr zahlst\, fließt das in einen Stipendienfond ein\, aus dem wir Teilstipendien an finanziell weniger gut Dastehende vergeben können) \n  \nWir freuen uns\, diesen besonderen Tag mit dir gemeinsam zu erleben.
URL:https://zentrum-eigenewege.de/event/fruehlingserwachen/
CATEGORIES:Wendepunkte
ATTACH;FMTTYPE=image/jpeg:https://zentrum-eigenewege.de/wp-content/uploads/2025/08/spring-1166564_960_720.jpg
END:VEVENT
END:VCALENDAR